BEGIN:VCALENDAR
VERSION:2.0
PRODID:-//Tukios.com/
BEGIN:VEVENT
UID:79030bd6-2bf3-4e74-8ccd-4717c553991e@www.trainorfuneralhome.com
DTSTAMP:20260419T084119Z
DTSTART:20260501T170000Z
DTEND:20260501T190000Z
SUMMARY:Visitation
DESCRIPTION:
URL:https://www.trainorfuneralhome.com/obituaries/robert-jones
LOCATION:Trainor Funeral Home, Inc. 143 Schuyler Street  Boonville NY 
	13309
GEO:43.483794;-75.3403084
END:VEVENT
END:VCALENDAR